Workbook

Sheet Part A Personnel Costs C1
A1: #VALUE! | B1: Part A: Personnel Costs (including Title III, Alternative Care / Elderly Waiver, Private Pay and All Other)
A2: Project Management (Directly Employed by Tribe or Provider)
A3: Position Title | B3: Work Location | C3: Hourly Rate/Value | D3: Hours Per Project Year | E3: FTE | F3: Annual Salary Cost | G3: Annual Fringe Benefit Cost | H3: Total Salary and Benefit
E4: =SUM(D4/2080) -> 0 | F4: =SUM(C4*D4) -> 0 | G4: =SUM(F4*0.24) -> 0 | H4: =SUM(F4:G4) -> 0
E5: =SUM(D5/2080) -> 0 | F5: =SUM(C5*D5) -> 0 | G5: =SUM(F5*0.24) -> 0 | H5: =SUM(F5:G5) -> 0
E6: =SUM(D6/2080) -> 0 | F6: =SUM(C6*D6) -> 0 | G6: =SUM(F6*0.24) -> 0 | H6: =SUM(F6:G6) -> 0
E7: =SUM(D7/2080) -> 0 | F7: =SUM(C7*D7) -> 0 | G7: =SUM(F7*0.24) -> 0 | H7: =SUM(F7:G7) -> 0
E8: =SUM(D8/2080) -> 0 | F8: =SUM(C8*D8) -> 0 | G8: =SUM(F8*0.24) -> 0 | H8: =SUM(F8:G8) -> 0
E9: =SUM(D9/2080) -> 0 | F9: =SUM(C9*D9) -> 0 | G9: =SUM(F9*0.24) -> 0 | H9: =SUM(F9:G9) -> 0
E10: =SUM(D10/2080) -> 0 | F10: =SUM(C10*D10) -> 0 | G10: =SUM(F10*0.24) -> 0 | H10: =SUM(F10:G10) -> 0
E11: =SUM(D11/2080) -> 0 | F11: =SUM(C11*D11) -> 0 | G11: =SUM(F11*0.24) -> 0 | H11: =SUM(F11:G11) -> 0
E12: =SUM(D12/2080) -> 0 | F12: =SUM(C12*D12) -> 0 | G12: =SUM(F12*0.24) -> 0 | H12: =SUM(F12:G12) -> 0
C13: Sub Totals | D13: =SUM(D4:D12) -> 0 | E13: =SUM(E4:E12) -> 0 | F13: =SUM(F4:F12) -> 0 | G13: =SUM(G4:G12) -> 0 | H13: =SUM(H4:H12) -> 0
A14: Site/Provider (Site Staff-Directly Employed by Tribe or Provider)
A15: Position Title | B15: Work Location | C15: Hourly Rate/Value | D15: Hours Per Project Year | E15: FTE | F15: Annual Salary Cost | G15: Annual Fringe Benefit Cost | H15: Total Salary and Benefit
E16: =SUM(D16/2080) -> 0 | F16: =SUM(C16*D16) -> 0 | G16: =SUM(F16*0.3215) -> 0 | H16: =SUM(F16:G16) -> 0
E17: =SUM(D17/2080) -> 0 | F17: =SUM(C17*D17) -> 0 | G17: =SUM(F17*0.3215) -> 0 | H17: =SUM(F17:G17) -> 0
E18: =SUM(D18/2080) -> 0 | F18: =SUM(C18*D18) -> 0 | G18: =SUM(F18*0.3215) -> 0 | H18: =SUM(F18:G18) -> 0
E19: =SUM(D19/2080) -> 0 | F19: =SUM(C19*D19) -> 0 | G19: =SUM(F19*0.3215) -> 0 | H19: =SUM(F19:G19) -> 0
E20: 0 | F20: 0 | G20: 0 | H20: =SUM(F20:G20) -> 0
E21: =SUM(D21/2080) -> 0 | F21: =SUM(C21*D21) -> 0 | G21: =SUM(F21*0.3215) -> 0 | H21: =SUM(F21:G21) -> 0
E22: =SUM(D22/2080) -> 0 | F22: =SUM(C22*D22) -> 0 | G22: =SUM(F22*0.3215) -> 0 | H22: =SUM(F22:G22) -> 0
E23: =SUM(D23/2080) -> 0 | F23: =SUM(C23*D23) -> 0 | G23: =SUM(F23*0.3215) -> 0 | H23: =SUM(F23:G23) -> 0
E24: =SUM(D24/2080) -> 0 | F24: =SUM(C24*D24) -> 0 | G24: =SUM(F24*0.3215) -> 0 | H24: =SUM(F24:G24) -> 0
E25: =SUM(D25/2080) -> 0 | F25: =SUM(C25*D25) -> 0 | G25: =SUM(F25*0.3215) -> 0 | H25: =SUM(F25:G25) -> 0
E26: =SUM(D26/2080) -> 0 | F26: =SUM(C26*D26) -> 0 | G26: =SUM(F26*0.3215) -> 0 | H26: =SUM(F26:G26) -> 0
E27: =SUM(D27/2080) -> 0 | F27: =SUM(C27*D27) -> 0 | G27: =SUM(F27*0.3215) -> 0 | H27: =SUM(F27:G27) -> 0
E28: =SUM(D28/2080) -> 0 | F28: =SUM(C28*D28) -> 0 | G28: =SUM(F28*0.3215) -> 0 | H28: =SUM(F28:G28) -> 0
E29: =SUM(D29/2080) -> 0 | F29: =SUM(C29*D29) -> 0 | G29: =SUM(F29*0.3215) -> 0 | H29: =SUM(F29:G29) -> 0
E30: =SUM(D30/2080) -> 0 | F30: =SUM(C30*D30) -> 0 | G30: =SUM(F30*0.3215) -> 0 | H30: =SUM(F30:G30) -> 0
E31: =SUM(D31/2080) -> 0 | F31: =SUM(C31*D31) -> 0 | G31: =SUM(F31*0.3215) -> 0 | H31: =SUM(F31:G31) -> 0
E32: =SUM(D32/2080) -> 0 | F32: =SUM(C32*D32) -> 0 | G32: =SUM(F32*0.3215) -> 0 | H32: =SUM(F32:G32) -> 0
C33: Sub Totals | D33: =SUM(D16:D32) -> 0 | E33: =SUM(E16:E32) -> 0 | F33: =SUM(F16:F32) -> 0 | G33: =SUM(G16:G32) -> 0 | H33: =SUM(H16:H32) -> 0
A34: Totals
A35: Total FTE | B35: =SUM(E13,E33) -> 0
A36: Total Salary and Fringe Cost | B36: =SUM(H13,H33) -> 0

Sheet Part A Personnel Costs C2
A1: #VALUE! | B1: Part A: Personnel Costs (including Title III, Alternative Care / Elderly Waiver, Private Pay and All Other)
A2: Project Management (Directly Employed by Tribe or Provider)
A3: Position Title | B3: Work Location | C3: Hourly Rate/Value | D3: Hours Per Project Year | E3: FTE | F3: Annual Salary Cost | G3: Annual Fringe Benefit Cost | H3: Total Salary and Benefit
E4: =SUM(D4/2080) -> 0 | F4: =SUM(C4*D4) -> 0 | G4: =SUM(F4*0.24) -> 0 | H4: =SUM(F4:G4) -> 0
E5: =SUM(D5/2080) -> 0 | F5: =SUM(C5*D5) -> 0 | G5: =SUM(F5*0.24) -> 0 | H5: =SUM(F5:G5) -> 0
E6: =SUM(D6/2080) -> 0 | F6: =SUM(C6*D6) -> 0 | G6: =SUM(F6*0.24) -> 0 | H6: =SUM(F6:G6) -> 0
E7: =SUM(D7/2080) -> 0 | F7: =SUM(C7*D7) -> 0 | G7: =SUM(F7*0.24) -> 0 | H7: =SUM(F7:G7) -> 0
E8: =SUM(D8/2080) -> 0 | F8: =SUM(C8*D8) -> 0 | G8: =SUM(F8*0.24) -> 0 | H8: =SUM(F8:G8) -> 0
E9: =SUM(D9/2080) -> 0 | F9: =SUM(C9*D9) -> 0 | G9: =SUM(F9*0.24) -> 0 | H9: =SUM(F9:G9) -> 0
E10: =SUM(D10/2080) -> 0 | F10: =SUM(C10*D10) -> 0 | G10: =SUM(F10*0.24) -> 0 | H10: =SUM(F10:G10) -> 0
E11: =SUM(D11/2080) -> 0 | F11: =SUM(C11*D11) -> 0 | G11: =SUM(F11*0.24) -> 0 | H11: =SUM(F11:G11) -> 0
E12: =SUM(D12/2080) -> 0 | F12: =SUM(C12*D12) -> 0 | G12: =SUM(F12*0.24) -> 0 | H12: =SUM(F12:G12) -> 0
C13: Sub Totals | D13: =SUM(D4:D12) -> 0 | E13: =SUM(E4:E12) -> 0 | F13: =SUM(F4:F12) -> 0 | G13: =SUM(G4:G12) -> 0 | H13: =SUM(H4:H12) -> 0
A14: Site/Provider (Site Staff-Directly Employed by Tribe or Provider)
A15: Position Title | B15: Work Location | C15: Hourly Rate/Value | D15: Hours Per Project Year | E15: FTE | F15: Annual Salary Cost | G15: Annual Fringe Benefit Cost | H15: Total Salary and Benefit
E16: =SUM(D16/2080) -> 0 | F16: =SUM(C16*D16) -> 0 | G16: =SUM(F16*0.3215) -> 0 | H16: =SUM(F16:G16) -> 0
E17: =SUM(D17/2080) -> 0 | F17: =SUM(C17*D17) -> 0 | G17: =SUM(F17*0.3215) -> 0 | H17: =SUM(F17:G17) -> 0
E18: =SUM(D18/2080) -> 0 | F18: =SUM(C18*D18) -> 0 | G18: =SUM(F18*0.3215) -> 0 | H18: =SUM(F18:G18) -> 0
E19: =SUM(D19/2080) -> 0 | F19: =SUM(C19*D19) -> 0 | G19: =SUM(F19*0.3215) -> 0 | H19: =SUM(F19:G19) -> 0
E20: 0 | F20: 0 | G20: 0
E21: =SUM(D21/2080) -> 0 | F21: =SUM(C21*D21) -> 0 | G21: =SUM(F21*0.3215) -> 0 | H21: =SUM(F21:G21) -> 0
E22: =SUM(D22/2080) -> 0 | F22: =SUM(C22*D22) -> 0 | G22: =SUM(F22*0.3215) -> 0 | H22: =SUM(F22:G22) -> 0
E23: =SUM(D23/2080) -> 0 | F23: =SUM(C23*D23) -> 0 | G23: =SUM(F23*0.3215) -> 0 | H23: =SUM(F23:G23) -> 0
E24: =SUM(D24/2080) -> 0 | F24: =SUM(C24*D24) -> 0 | G24: =SUM(F24*0.3215) -> 0 | H24: =SUM(F24:G24) -> 0
E25: =SUM(D25/2080) -> 0 | F25: =SUM(C25*D25) -> 0 | G25: =SUM(F25*0.3215) -> 0 | H25: =SUM(F25:G25) -> 0
E26: =SUM(D26/2080) -> 0 | F26: =SUM(C26*D26) -> 0 | G26: =SUM(F26*0.3215) -> 0 | H26: =SUM(F26:G26) -> 0
E27: =SUM(D27/2080) -> 0 | F27: =SUM(C27*D27) -> 0 | G27: =SUM(F27*0.3215) -> 0 | H27: =SUM(F27:G27) -> 0
E28: =SUM(D28/2080) -> 0 | F28: =SUM(C28*D28) -> 0 | G28: =SUM(F28*0.3215) -> 0 | H28: =SUM(F28:G28) -> 0
E29: =SUM(D29/2080) -> 0 | F29: =SUM(C29*D29) -> 0 | G29: =SUM(F29*0.3215) -> 0 | H29: =SUM(F29:G29) -> 0
E30: =SUM(D30/2080) -> 0 | F30: =SUM(C30*D30) -> 0 | G30: =SUM(F30*0.3215) -> 0 | H30: =SUM(F30:G30) -> 0
E31: =SUM(D31/2080) -> 0 | F31: =SUM(C31*D31) -> 0 | G31: =SUM(F31*0.3215) -> 0 | H31: =SUM(F31:G31) -> 0
E32: =SUM(D32/2080) -> 0 | F32: =SUM(C32*D32) -> 0 | G32: =SUM(F32*0.3215) -> 0 | H32: =SUM(F32:G32) -> 0
C33: Sub Totals | D33: =SUM(D16:D32) -> 0 | E33: =SUM(E16:E32) -> 0 | F33: =SUM(F16:F32) -> 0 | G33: =SUM(G16:G32) -> 0 | H33: =SUM(H16:H32) -> 0
A34: Totals
A35: Total FTE | B35: =SUM(E13,E33) -> 0
A36: Total Salary and Fringe Cost | B36: =SUM(H13,H33) -> 0

Sheet Part A Personnel Costs B Supp
A1: #VALUE! | B1: Part A: Personnel Costs (including Title III, Alternative Care / Elderly Waiver, Private Pay and All Other)
A2: Project Management (Directly Employed by Tribe or Provider)
A3: Position Title | B3: Work Location | C3: Hourly Rate/Value | D3: Hours Per Project Year | E3: FTE | F3: Annual Salary Cost | G3: Annual Fringe Benefit Cost | H3: Total Salary and Benefit
E4: =SUM(D4/2080) -> 0 | F4: =SUM(C4*D4) -> 0 | G4: =SUM(F4*0.24) -> 0 | H4: =SUM(F4:G4) -> 0
E5: =SUM(D5/2080) -> 0 | F5: =SUM(C5*D5) -> 0 | G5: =SUM(F5*0.24) -> 0 | H5: =SUM(F5:G5) -> 0
E6: =SUM(D6/2080) -> 0 | F6: =SUM(C6*D6) -> 0 | G6: =SUM(F6*0.24) -> 0 | H6: =SUM(F6:G6) -> 0
E7: =SUM(D7/2080) -> 0 | F7: =SUM(C7*D7) -> 0 | G7: =SUM(F7*0.24) -> 0 | H7: =SUM(F7:G7) -> 0
E8: =SUM(D8/2080) -> 0 | F8: =SUM(C8*D8) -> 0 | G8: =SUM(F8*0.24) -> 0 | H8: =SUM(F8:G8) -> 0
E9: =SUM(D9/2080) -> 0 | F9: =SUM(C9*D9) -> 0 | G9: =SUM(F9*0.24) -> 0 | H9: =SUM(F9:G9) -> 0
E10: =SUM(D10/2080) -> 0 | F10: =SUM(C10*D10) -> 0 | G10: =SUM(F10*0.24) -> 0 | H10: =SUM(F10:G10) -> 0
E11: =SUM(D11/2080) -> 0 | F11: =SUM(C11*D11) -> 0 | G11: =SUM(F11*0.24) -> 0 | H11: =SUM(F11:G11) -> 0
C12: Sub Totals | D12: =SUM(D4:D11) -> 0 | E12: =SUM(E4:E11) -> 0 | F12: =SUM(F4:F11) -> 0 | G12: =SUM(G4:G11) -> 0 | H12: =SUM(H4:H11) -> 0
A13: Site/Provider (Site Staff-Directly Employed by Tribe or Provider)
A14: Position Title | B14: Work Location | C14: Hourly Rate/Value | D14: Hours Per Project Year | E14: FTE | F14: Annual Salary Cost | G14: Annual Fringe Benefit Cost | H14: Total Salary and Benefit
E15: =SUM(D15/2080) -> 0 | F15: =SUM(C15*D15) -> 0 | G15: =SUM(F15*0.3215) -> 0 | H15: =SUM(F15:G15) -> 0
E16: =SUM(D16/2080) -> 0 | F16: =SUM(C16*D16) -> 0 | G16: =SUM(F16*0.3215) -> 0 | H16: =SUM(F16:G16) -> 0
E17: =SUM(D17/2080) -> 0 | F17: =SUM(C17*D17) -> 0 | G17: =SUM(F17*0.3215) -> 0 | H17: =SUM(F17:G17) -> 0
E18: =SUM(D18/2080) -> 0 | F18: =SUM(C18*D18) -> 0 | G18: =SUM(F18*0.3215) -> 0 | H18: =SUM(F18:G18) -> 0
E19: =SUM(D19/2080) -> 0 | F19: =SUM(C19*D19) -> 0 | G19: =SUM(F19*0.3215) -> 0 | H19: =SUM(F19:G19) -> 0
E20: =SUM(D20/2080) -> 0 | F20: =SUM(C20*D20) -> 0 | G20: =SUM(F20*0.3215) -> 0 | H20: =SUM(F20:G20) -> 0
E21: =SUM(D21/2080) -> 0 | F21: =SUM(C21*D21) -> 0 | G21: =SUM(F21*0.3215) -> 0 | H21: =SUM(F21:G21) -> 0
E22: =SUM(D22/2080) -> 0 | F22: =SUM(C22*D22) -> 0 | G22: =SUM(F22*0.3215) -> 0 | H22: =SUM(F22:G22) -> 0
E23: =SUM(D23/2080) -> 0 | F23: =SUM(C23*D23) -> 0 | G23: =SUM(F23*0.3215) -> 0 | H23: =SUM(F23:G23) -> 0
E24: =SUM(D24/2080) -> 0 | F24: =SUM(C24*D24) -> 0 | G24: =SUM(F24*0.3215) -> 0 | H24: =SUM(F24:G24) -> 0
E25: =SUM(D25/2080) -> 0 | F25: =SUM(C25*D25) -> 0 | G25: =SUM(F25*0.3215) -> 0 | H25: =SUM(F25:G25) -> 0
E26: =SUM(D26/2080) -> 0 | F26: =SUM(C26*D26) -> 0 | G26: =SUM(F26*0.3215) -> 0 | H26: =SUM(F26:G26) -> 0
... E31: =SUM(D31/2080) -> 0 | F31: =SUM(C31*D31) -> 0 | G31: =SUM(F31*0.3215) -> 0 | H31: =SUM(F31:G31) -> 0
C32: Sub Totals | D32: =SUM(D15:D31) -> 0 | E32: =SUM(E15:E31) -> 0 | F32: =SUM(F15:F31) -> 0 | G32: =SUM(G15:G31) -> 0 | H32: =SUM(H15:H31) -> 0
A33: Totals
A34: Total FTE | B34: =SUM(E12,E32) -> 0
A35: Total Salary and Fringe Cost | B35: =SUM(H12,H32) -> 0

Sheet Part A Personnel Costs B Legal
A1: #VALUE! | B1: Part A: Personnel Costs (including Title III, Alternative Care / Elderly Waiver, Private Pay and All Other)
A2: Project Management (Directly Employed by Tribe or Provider)
A3: Position Title | B3: Work Location | C3: Hourly Rate/Value | D3: Hours Per Project Year | E3: FTE | F3: Annual Salary Cost | G3: Annual Fringe Benefit Cost | H3: Total Salary and Benefit
E4: =SUM(D4/2080) -> 0 | F4: =SUM(C4*D4) -> 0 | G4: =SUM(F4*0.24) -> 0 | H4: =SUM(F4:G4) -> 0
E5: =SUM(D5/2080) -> 0 | F5: =SUM(C5*D5) -> 0 | G5: =SUM(F5*0.24) -> 0 | H5: =SUM(F5:G5) -> 0
E6: =SUM(D6/2080) -> 0 | F6: =SUM(C6*D6) -> 0 | G6: =SUM(F6*0.24) -> 0 | H6: =SUM(F6:G6) -> 0
E7: =SUM(D7/2080) -> 0 | F7: =SUM(C7*D7) -> 0 | G7: =SUM(F7*0.24) -> 0 | H7: =SUM(F7:G7) -> 0
E8: =SUM(D8/2080) -> 0 | F8: =SUM(C8*D8) -> 0 | G8: =SUM(F8*0.24) -> 0 | H8: =SUM(F8:G8) -> 0
E9: =SUM(D9/2080) -> 0 | F9: =SUM(C9*D9) -> 0 | G9: =SUM(F9*0.24) -> 0 | H9: =SUM(F9:G9) -> 0
E10: =SUM(D10/2080) -> 0 | F10: =SUM(C10*D10) -> 0 | G10: =SUM(F10*0.24) -> 0 | H10: =SUM(F10:G10) -> 0
E11: =SUM(D11/2080) -> 0 | F11: =SUM(C11*D11) -> 0 | G11: =SUM(F11*0.24) -> 0 | H11: =SUM(F11:G11) -> 0
C12: Sub Totals | D12: =SUM(D4:D11) -> 0 | E12: =SUM(E4:E11) -> 0 | F12: =SUM(F4:F11) -> 0 | G12: =SUM(G4:G11) -> 0 | H12: =SUM(H4:H11) -> 0
A13: Site/Provider (Site Staff-Directly Employed by Tribe or Provider)
A14: Position Title | B14: Work Location | C14: Hourly Rate/Value | D14: Hours Per Project Year | E14: FTE | F14: Annual Salary Cost | G14: Annual Fringe Benefit Cost | H14: Total Salary and Benefit
E15: =SUM(D15/2080) -> 0 | F15: =SUM(C15*D15) -> 0 | G15: =SUM(F15*0.3215) -> 0 | H15: =SUM(F15:G15) -> 0
E16: =SUM(D16/2080) -> 0 | F16: =SUM(C16*D16) -> 0 | G16: =SUM(F16*0.3215) -> 0 | H16: =SUM(F16:G16) -> 0
E17: =SUM(D17/2080) -> 0 | F17: =SUM(C17*D17) -> 0 | G17: =SUM(F17*0.3215) -> 0 | H17: =SUM(F17:G17) -> 0
E18: =SUM(D18/2080) -> 0 | F18: =SUM(C18*D18) -> 0 | G18: =SUM(F18*0.3215) -> 0 | H18: =SUM(F18:G18) -> 0
E19: =SUM(D19/2080) -> 0 | F19: =SUM(C19*D19) -> 0 | G19: =SUM(F19*0.3215) -> 0 | H19: =SUM(F19:G19) -> 0
E20: =SUM(D20/2080) -> 0 | F20: =SUM(C20*D20) -> 0 | G20: =SUM(F20*0.3215) -> 0 | H20: =SUM(F20:G20) -> 0
E21: =SUM(D21/2080) -> 0 | F21: =SUM(C21*D21) -> 0 | G21: =SUM(F21*0.3215) -> 0 | H21: =SUM(F21:G21) -> 0
E22: =SUM(D22/2080) -> 0 | F22: =SUM(C22*D22) -> 0 | G22: =SUM(F22*0.3215) -> 0 | H22: =SUM(F22:G22) -> 0
E23: =SUM(D23/2080) -> 0 | F23: =SUM(C23*D23) -> 0 | G23: =SUM(F23*0.3215) -> 0 | H23: =SUM(F23:G23) -> 0
E24: =SUM(D24/2080) -> 0 | F24: =SUM(C24*D24) -> 0 | G24: =SUM(F24*0.3215) -> 0 | H24: =SUM(F24:G24) -> 0
E25: =SUM(D25/2080) -> 0 | F25: =SUM(C25*D25) -> 0 | G25: =SUM(F25*0.3215) -> 0 | H25: =SUM(F25:G25) -> 0
E26: =SUM(D26/2080) -> 0 | F26: =SUM(C26*D26) -> 0 | G26: =SUM(F26*0.3215) -> 0 | H26: =SUM(F26:G26) -> 0
... E31: =SUM(D31/2080) -> 0 | F31: =SUM(C31*D31) -> 0 | G31: =SUM(F31*0.3215) -> 0 | H31: =SUM(F31:G31) -> 0
C32: Sub Totals | D32: =SUM(D15:D31) -> 0 | E32: =SUM(E15:E31) -> 0 | F32: =SUM(F15:F31) -> 0 | G32: =SUM(G15:G31) -> 0 | H32: =SUM(H15:H31) -> 0
A33: Totals
A34: Total FTE | B34: =SUM(E12,E32) -> 0
A35: Total Salary and Fringe Cost | B35: =SUM(H12,H32) -> 0

Sheet Part A Personnel Costs E
A1: #VALUE! | B1: Part A: Personnel Costs (including Title III, Alternative Care / Elderly Waiver, Private Pay and All Other)
A2: Project Management (Directly Employed by Tribe or Provider)
A3: Position Title | B3: Work Location | C3: Hourly Rate/Value | D3: Hours Per Project Year | E3: FTE | F3: Annual Salary Cost | G3: Annual Fringe Benefit Cost | H3: Total Salary and Benefit
E4: =SUM(D4/2080) -> 0 | F4: =SUM(C4*D4) -> 0 | G4: =SUM(F4*0.24) -> 0 | H4: =SUM(F4:G4) -> 0
E5: =SUM(D5/2080) -> 0 | F5: =SUM(C5*D5) -> 0 | G5: =SUM(F5*0.24) -> 0 | H5: =SUM(F5:G5) -> 0
E6: =SUM(D6/2080) -> 0 | F6: =SUM(C6*D6) -> 0 | G6: =SUM(F6*0.24) -> 0 | H6: =SUM(F6:G6) -> 0
E7: =SUM(D7/2080) -> 0 | F7: =SUM(C7*D7) -> 0 | G7: =SUM(F7*0.24) -> 0 | H7: =SUM(F7:G7) -> 0
E8: =SUM(D8/2080) -> 0 | F8: =SUM(C8*D8) -> 0 | G8: =SUM(F8*0.24) -> 0 | H8: =SUM(F8:G8) -> 0
E9: =SUM(D9/2080) -> 0 | F9: =SUM(C9*D9) -> 0 | G9: =SUM(F9*0.24) -> 0 | H9: =SUM(F9:G9) -> 0
E10: =SUM(D10/2080) -> 0 | F10: =SUM(C10*D10) -> 0 | G10: =SUM(F10*0.24) -> 0 | H10: =SUM(F10:G10) -> 0
E11: =SUM(D11/2080) -> 0 | F11: =SUM(C11*D11) -> 0 | G11: =SUM(F11*0.24) -> 0 | H11: =SUM(F11:G11) -> 0
E12: =SUM(D12/2080) -> 0 | F12: =SUM(C12*D12) -> 0 | G12: =SUM(F12*0.24) -> 0 | H12: =SUM(F12:G12) -> 0
C13: Sub Totals | D13: =SUM(D4:D12) -> 0 | E13: =SUM(E4:E12) -> 0 | F13: =SUM(F4:F12) -> 0 | G13: =SUM(G4:G12) -> 0 | H13: =SUM(H4:H12) -> 0
A14: Site/Provider (Site Staff-Directly Employed by Tribe or Provider)
A15: Position Title | B15: Work Location | C15: Hourly Rate/Value | D15: Hours Per Project Year | E15: FTE | F15: Annual Salary Cost | G15: Annual Fringe Benefit Cost | H15: Total Salary and Benefit
E16: =SUM(D16/2080) -> 0 | F16: =SUM(C16*D16) -> 0 | G16: =SUM(F16*0.3215) -> 0 | H16: =SUM(F16:G16) -> 0
E17: =SUM(D17/2080) -> 0 | F17: =SUM(C17*D17) -> 0 | G17: =SUM(F17*0.3215) -> 0 | H17: =SUM(F17:G17) -> 0
E18: =SUM(D18/2080) -> 0 | F18: =SUM(C18*D18) -> 0 | G18: =SUM(F18*0.3215) -> 0 | H18: =SUM(F18:G18) -> 0
E19: =SUM(D19/2080) -> 0 | F19: =SUM(C19*D19) -> 0 | G19: =SUM(F19*0.3215) -> 0 | H19: =SUM(F19:G19) -> 0
E20: =SUM(D20/2080) -> 0 | F20: =SUM(C20*D20) -> 0 | G20: =SUM(F20*0.3215) -> 0 | H20: =SUM(F20:G20) -> 0
E21: =SUM(D21/2080) -> 0 | F21: =SUM(C21*D21) -> 0 | G21: =SUM(F21*0.3215) -> 0 | H21: =SUM(F21:G21) -> 0
E22: =SUM(D22/2080) -> 0 | F22: =SUM(C22*D22) -> 0 | G22: =SUM(F22*0.3215) -> 0 | H22: =SUM(F22:G22) -> 0
E23: =SUM(D23/2080) -> 0 | F23: =SUM(C23*D23) -> 0 | G23: =SUM(F23*0.3215) -> 0 | H23: =SUM(F23:G23) -> 0
E24: =SUM(D24/2080) -> 0 | F24: =SUM(C24*D24) -> 0 | G24: =SUM(F24*0.3215) -> 0 | H24: =SUM(F24:G24) -> 0
E25: =SUM(D25/2080) -> 0 | F25: =SUM(C25*D25) -> 0 | G25: =SUM(F25*0.3215) -> 0 | H25: =SUM(F25:G25) -> 0
E26: =SUM(D26/2080) -> 0 | F26: =SUM(C26*D26) -> 0 | G26: =SUM(F26*0.3215) -> 0 | H26: =SUM(F26:G26) -> 0
E27: =SUM(D27/2080) -> 0 | F27: =SUM(C27*D27) -> 0 | G27: =SUM(F27*0.3215) -> 0 | H27: =SUM(F27:G27) -> 0
... E32: =SUM(D32/2080) -> 0 | F32: =SUM(C32*D32) -> 0 | G32: =SUM(F32*0.3215) -> 0 | H32: =SUM(F32:G32) -> 0
C33: Sub Totals | D33: =SUM(D16:D32) -> 0 | E33: =SUM(E16:E32) -> 0 | F33: =SUM(F16:F32) -> 0 | G33: =SUM(G16:G32) -> 0 | H33: =SUM(H16:H32) -> 0
A34: Totals
A35: Total FTE | B35: =SUM(E13,E33) -> 0
A36: Total Salary and Fringe Cost | B36: =SUM(H13,H33) -> 0

Sheet Part B Rate Unit Cost
A1: #VALUE! | B1: Part B: Service Rate Unit Cost
B2: Project Management Cost Breakdown | G2: Site/Provider Cost Breakdown
B3: Title III-C1 Congregate | C3: Title III-C2 Home Delivered | D3: Title III-B Supportive Services | E3: Title III-B Legal Services | F3: Title III-E Family/ Caregiver Support | G3: Title III-C1 Congregate | H3: Title III-C2 Home Delivered | I3: Title III-B Supportive Services | J3: Title III-B Legal Services | K3: Title III-E Family/ Caregiver Support | L3: Total
A4: Salaries | B4: ='Part A Personnel Costs C1'!F13 -> 0 | C4: ='Part B Rate Unit Cost'!F13 -> 0 | D4: ='Part A Personnel Costs B Supp'!F12 -> 0 | E4: ='Part A Personnel Costs B Legal'!F12 -> 0 | F4: ='Part A Personnel Costs E'!F13 -> 0 | G4: ='Part A Personnel Costs C1'!F33 -> 0 | H4: ='Part A Personnel Costs C2'!F33 -> 0 | I4: ='Part A Personnel Costs B Supp'!F32 -> 0 | J4: ='Part A Personnel Costs B Legal'!F32 -> 0 | K4: ='Part A Personnel Costs E'!F33 -> 0 | L4: =SUM(B4:K4) -> 0
A5: Fringe Benefits | B5: ='Part A Personnel Costs C1'!G13 -> 0 | C5: ='Part A Personnel Costs C2'!G13 -> 0 | D5: ='Part A Personnel Costs B Supp'!G12 -> 0 | E5: ='Part A Personnel Costs B Legal'!G12 -> 0 | F5: ='Part A Personnel Costs E'!G13 -> 0 | G5: ='Part A Personnel Costs C1'!G33 -> 0 | H5: ='Part A Personnel Costs C2'!G33 -> 0 | I5: ='Part A Personnel Costs B Supp'!G32 -> 0 | J5: ='Part A Personnel Costs B Legal'!G32 -> 0 | K5: ='Part A Personnel Costs E'!G33 -> 0 | L5: =SUM(B5:K5) -> 0
A6: Staff Travel | L6: =SUM(B6:K6) -> 0
A7: Supplies | L7: =SUM(B7:K7) -> 0
A8: Utilities | L8: =SUM(B8:K8) -> 0
A9: Communications | L9: =SUM(B9:K9) -> 0
A10: Building Space | L10: =SUM(B10:K10) -> 0
A11: Professional Services | L11: =SUM(B11:K11) -> 0
A12: Raw Food | L12: =SUM(B12:K12) -> 0
A13: Caterer/Subcontractor* (Total below) | L13: =SUM(B13:K13) -> 0
A14: Equipment | L14: =SUM(B14:K14) -> 0
A15: Insurance (as required) | L15: =SUM(B15:K15) -> 0
A16: Indirect Costs | L16: =SUM(B16:K16) -> 0
A17: Other** (Total from below) | B17: =SUM(B28) -> 0 | C17: =SUM(C28) -> 0 | D17: =SUM(D28) -> 0 | E17: =SUM(E28) -> 0 | F17: =SUM(F28) -> 0 | G17: =SUM(G28) -> 0 | H17: =SUM(H28) -> 0 | I17: =SUM(I28) -> 0 | ... K17: =SUM(K28) -> 0 | L17: =SUM(B17:K17) -> 0
A18: Total | B18: =SUM(B4:B17) -> 0 | C18: =SUM(C4:C17) -> 0 | D18: =SUM(D4:D17) -> 0 | E18: =SUM(E4:E17) -> 0 | F18: =SUM(F4:F17) -> 0 | G18: =SUM(G4:G17) -> 0 | H18: =SUM(H4:H17) -> 0 | I18: =SUM(I4:I17) -> 0 | ... L18: =SUM(L4:L17) -> 0
B19: **Other Project Management Cost Breakdown | G19: **Other Site/Provider Cost Breakdown
A20: **List Other Costs | B20: Title III-C1 Congregate | C20: Title III-C2 Home Delivered | D20: Title III-B Supportive Services | E20: Title III-B Legal Services | F20: Title III-E Family/ Caregiver Support | G20: Title III-C1 Congregate | H20: Title III-C2 Home Delivered | I20: Title III-B Supportive Services | J20: Title III-B Legal Services | K20: Title III-E Family/ Caregiver Support | L20: Total
L21: =SUM(B21:K21) -> 0
L22: =SUM(B22:K22) -> 0
L23: =SUM(B23:K23) -> 0
L24: =SUM(B24:K24) -> 0
L25: =SUM(B25:K25) -> 0
L26: =SUM(B26:K26) -> 0
L27: =SUM(B27:K27) -> 0
A28: Total Other Costs | B28: =SUM(B21:B27) -> 0 | C28: =SUM(C21:C27) -> 0 | D28: =SUM(D21:D27) -> 0 | E28: =SUM(E21:E27) -> 0 | F28: =SUM(F21:F27) -> 0 | G28: =SUM(G21:G27) -> 0 | H28: =SUM(H21:H27) -> 0 | I28: =SUM(I21:I27) -> 0 | ... K28: =SUM(K21:K27) -> 0 | L28: =SUM(B28:K28) -> 0
A29: *Caterer/Subcontractor Breakdown
B30: Service Unit Numbers in Contract | H30: Cost of Services (Autocalculated based on Unit Price and Number)
A31: *Enter Caterer/Subcontractor Name | B31: Title III-C1 Congregate | C31: Title III-C2 Home Delivered | D31: Title III-B Supportive Services | E31: Title III-B Legal Services | F31: Title III-E Family/ Caregiver Support | G31: Unit Price | H31: Title III-C1 Congregate | I31: Title III-C2 Home Delivered | J31: Title III-B Legal Services | K31: Title III-B Supportive Services | L31: Title III-E Family/ Caregiver Support | M31: Total
H32: =SUM(B32*G32) -> 0 | I32: =SUM(C32*G32) -> 0 | J32: =SUM(D32*G32) -> 0 | K32: =SUM(D32*G32) -> 0 | L32: =SUM(F32*G32) -> 0 | M32: =SUM(H32:L32) -> 0
H33: =SUM(B33*G33) -> 0 | I33: =SUM(C33*G33) -> 0 | J33: =SUM(D33*G33) -> 0 | K33: =SUM(D33*G33) -> 0 | L33: =SUM(F33*G33) -> 0 | M33: =SUM(H33:L33) -> 0
H34: =SUM(B34*G34) -> 0 | I34: =SUM(C34*G34) -> 0 | J34: =SUM(D34*G34) -> 0 | K34: =SUM(D34*G34) -> 0 | L34: =SUM(F34*G34) -> 0 | M34: =SUM(H34:L34) -> 0
H35: =SUM(B35*G35) -> 0 | I35: =SUM(C35*G35) -> 0 | J35: =SUM(D35*G35) -> 0 | K35: =SUM(D35*G35) -> 0 | L35: =SUM(F35*G35) -> 0 | M35: =SUM(H35:L35) -> 0
H36: =SUM(B36*G36) -> 0 | I36: =SUM(C36*G36) -> 0 | J36: =SUM(D36*G36) -> 0 | K36: =SUM(D36*G36) -> 0 | L36: =SUM(F36*G36) -> 0 | M36: =SUM(H36:L36) -> 0
H37: =SUM(B37*G37) -> 0 | I37: =SUM(C37*G37) -> 0 | J37: =SUM(D37*G37) -> 0 | K37: =SUM(D37*G37) -> 0 | L37: =SUM(F37*G37) -> 0 | M37: =SUM(H37:L37) -> 0
G38: Total | H38: =SUM(H32:H37) -> 0 | I38: =SUM(I32:I37) -> 0 | J38: =SUM(J32:J37) -> 0 | K38: =SUM(K32:K37) -> 0 | L38: =SUM(L32:L37) -> 0 | M38: =SUM(H38:L38) -> 0
A39: Cost Unit Calculation
B40: Title III Congregate | C40: Title III Home Delivered | D40: Title III-B Supportive Services | E40: Title III-B Legal Services | F40: Title III-E Family/ Caregiver Support
...

Sheet Cost Definitions
A1: DO NOT EDIT
A2: Older Americans Act Cost Definitions
A3: Project Management:
A4: Include all costs for overall project management and administration by tribe
A5: Allowable Costs | B5: Definition
A6: Salaries & Fringe Benefits | B6: Project director and related administrative staff such as assistant directors; nutritionists, bookkeepers; clerical staff; supervisor of site managers etc.
A7: Staff travel | B7: Related to overall project management
A8: Supplies | B8: Related to overall project management, such as consumable office supplies, office equipment less than $10,000
A9: Utilities | B9: Related to overall project management offices and activities
A10: Communications | B10: Related to overall project management
A11: Building Space | B11: Related to overall project management offices
A12: Professional Services | B12: Examples: consultants hired for training, consulting registered dietitian etc.
A13: Equipment | B13: Related to overall project management, such as office equipment $10000 or greater
A14: Insurance | B14: As required in Appendix A
A15: Other | B15: General expenses related to overall project management, such as licenses, copying and reproduction, professional dues and subscriptions, project council expenses, advertising, training, audit costs, volunteer recognition, etc.
A16: Meals & Other Services
A17: Include all costs incurred for site operations and the preparation and portioning of meals or other services
A18: Allowable Costs | B18: Definition
A19: Salaries & Fringe Benefits | B19: Site operations (participant registration and tracking activities), food or supply preparation, reheating food, cooking, portioning, cleaning of meal preparation area, dishwashing, ordering, completing and inventory of food or other supplies, procurement of food or other supplies
A20: Staff Travel | B20: Related to site, meal preparation, and service provider staff
A21: Supplies | B21: Small durable items, small kitchen or other equipment less than $10,000, consummable supplies, cleaning materials
A22: Utilities | B22: The proportion of utilities used for program related site activities and meal preparation or other services
A23: Communications | B23: Communications used at sites by site staff
A24: Building Space | B24: Building space used for site activities and /or meal or service preparation
A25: Raw Food | B25: Raw food, transportation of raw food to project, transportation of raw food to preparation sites, storage of food at storage facilities for project
A26: Caterer/Subcontractor Contracts | B26: Costs for preparation, portioning and delivery to meal site of meals prepared by a provider not directly employed by the tribe or costs of providing services by a provider not directly empoyed by tribe
A27: Equipment | B27: Cost of capital items such as stoves, refrigerators, dishwashers, freezers, steam tables, stainless steel work tables greater than $10,000. Also cost of repair and maintenance of capitol equipment
A28: Insurance | B28: As required as part of contract with MIAAA
A29: Other | B29: Costs for transportation of prepared food or supplies to satellite sites, i.e. equipment operation costs (gas, oil, repair and storage for project-owned vehicles) and pay for delivery person. Mileage costs for volunteers delivering meals or other services to homebound

Sheet Service List
A1: DO NOT EDIT
A2: Older Americans Act Title III Services
A3: Title III Service | B3: Cost Unit | C3: Title III Fund | D3: Registered
A4: Adult Day Care/Adult Day Health | B4: 1 day (8 hours)* | C4: B | D4: Yes
A5: Assisted Transportation | B5: 1 one way trip | C5: B | D5: Yes
A6: Chore | B6: 1 hour | C6: B | D6: Yes
A7: Homemaker | B7: 1 hour | C7: B | D7: Yes
A8: Personal Care | B8: 1 hour | C8: B | D8: Yes
A9: Self-Directed Supportive Services | B9: N/A | C9: B or E | D9: Yes
A10: Consultation | B10: 1 hour | C10: B | D10: No
A11: Consumable Supplies | B11: 1 delivery | C11: B | D11: No
A12: Counseling | B12: 1 session | C12: B | D12: No
A13: Education/Training | B13: 1 session | C13: B | D13: No
A14: Guardianship | B14: TBD | C14: B | D14: No
... A39: Caregiver Public Information Services | B39: 1 activity | C39: E | D39: No
A40: * May report using partial units
